BEGIN:VCALENDAR
VERSION:2.0
PRODID:-//All Dogs Allowed - ECPv6.15.20//NONSGML v1.0//EN
CALSCALE:GREGORIAN
METHOD:PUBLISH
X-ORIGINAL-URL:https://alldogsnc.com
X-WR-CALDESC:Events for All Dogs Allowed
REFRESH-INTERVAL;VALUE=DURATION:PT1H
X-Robots-Tag:noindex
X-PUBLISHED-TTL:PT1H
BEGIN:VTIMEZONE
TZID:America/New_York
BEGIN:DAYLIGHT
TZOFFSETFROM:-0500
TZOFFSETTO:-0400
TZNAME:EDT
DTSTART:20230312T070000
END:DAYLIGHT
BEGIN:STANDARD
TZOFFSETFROM:-0400
TZOFFSETTO:-0500
TZNAME:EST
DTSTART:20231105T060000
END:STANDARD
BEGIN:DAYLIGHT
TZOFFSETFROM:-0500
TZOFFSETTO:-0400
TZNAME:EDT
DTSTART:20240310T070000
END:DAYLIGHT
BEGIN:STANDARD
TZOFFSETFROM:-0400
TZOFFSETTO:-0500
TZNAME:EST
DTSTART:20241103T060000
END:STANDARD
BEGIN:DAYLIGHT
TZOFFSETFROM:-0500
TZOFFSETTO:-0400
TZNAME:EDT
DTSTART:20250309T070000
END:DAYLIGHT
BEGIN:STANDARD
TZOFFSETFROM:-0400
TZOFFSETTO:-0500
TZNAME:EST
DTSTART:20251102T060000
END:STANDARD
BEGIN:DAYLIGHT
TZOFFSETFROM:-0500
TZOFFSETTO:-0400
TZNAME:EDT
DTSTART:20260308T070000
END:DAYLIGHT
BEGIN:STANDARD
TZOFFSETFROM:-0400
TZOFFSETTO:-0500
TZNAME:EST
DTSTART:20261101T060000
END:STANDARD
END:VTIMEZONE
BEGIN:VEVENT
DTSTART;TZID=America/New_York:20250329T110000
DTEND;TZID=America/New_York:20250329T150000
DTSTAMP:20260423T133938
CREATED:20250207T161327Z
LAST-MODIFIED:20250207T161327Z
UID:38778-1743246000-1743260400@alldogsnc.com
SUMMARY:Hoppy Paws Eggstravaganza with the Triangle Canine Club
DESCRIPTION:Join us on Saturday\, March 29th\, from 11 AM to 3 PM at Fenton (21 Fenton Main St.\, Cary) for an egg-citing day of fun! Bring your pups for our egg hunt featuring 1\,500 prize-filled eggs\, enjoy live music\, shop with local vendors\, and snap a photo with the Easter Bunny. Proceeds benefit the Carolina Boxer Rescue. Don’t miss this pawsome celebration! ✨
URL:https://alldogsnc.com/event/hoppy-paws-eggstravaganza-with-the-triangle-canine-club/
LOCATION:Fenton\, 21 Fenton Main Street\, Cary
END:VEVENT
BEGIN:VEVENT
DTSTART;TZID=America/New_York:20250323T140000
DTEND;TZID=America/New_York:20250323T150000
DTSTAMP:20260423T133938
CREATED:20240611T144031Z
LAST-MODIFIED:20250206T164326Z
UID:34720-1742738400-1742742000@alldogsnc.com
SUMMARY:Obedience and Manners Dog Training at the Park March
DESCRIPTION:Unleash the potential in your four-legged friend with our Dog Training series in the Park! Join expert trainers from All Dogs Allowed for fun and interactive sessions designed to enhance your dog’s obedience and social skills. From basic commands to advanced tricks\, these sessions provide a positive and engaging environment for both you and your canine companion.
URL:https://alldogsnc.com/event/obedience-and-manners-dog-training-at-the-park-mar/
LOCATION:NC
END:VEVENT
BEGIN:VEVENT
DTSTART;TZID=America/New_York:20250316T090000
DTEND;TZID=America/New_York:20250316T120000
DTSTAMP:20260423T133938
CREATED:20250206T163038Z
LAST-MODIFIED:20250213T144830Z
UID:38731-1742115600-1742126400@alldogsnc.com
SUMMARY:Rally Obedience Workshop March
DESCRIPTION:In this 3 hour workshop\, guest trainer of Howling Moon Pet Care\, Jesi Kirk\, will introduce you to the sport of Rally Obedience. Jesi has competed and achieved titles in Novice and Advanced AKC Rally Obedience. Whether you are interested in trying something new or preparing for competition we will help you get started. Topics we will cover will be loose leash walking\, how to read and perform signs\, how to fade treats\, and how to prepare for competition. This class is designed for beginners only. Dogs who sign up for this workshop should be used to participating in group classes and able to settle during lectures and/or waiting for their turn. It is suggested that your dog complete and pass the AKC Canine Good Citizen class prior to taking this workshop. \nIf your dog is not suitable for working in a group you can also audit the workshop and come by yourself! You can book an audit spot HERE for only $50!
URL:https://alldogsnc.com/event/rally-obedience-workshop-mar/
LOCATION:NC
END:VEVENT
BEGIN:VEVENT
DTSTART;TZID=America/New_York:20250315T163000
DTEND;TZID=America/New_York:20250315T193000
DTSTAMP:20260423T133938
CREATED:20250206T161917Z
LAST-MODIFIED:20250213T144744Z
UID:38729-1742056200-1742067000@alldogsnc.com
SUMMARY:Cooperative Care Workshop March
DESCRIPTION:In this 3 hour workshop\, guest trainer of Howling Moon Pet Care\, Jesi Kirk\, will introduce you to all things Cooperative Care. Cooperative Care is a dog training method that focuses on teaching dogs to actively participate in activities such as grooming\, handling\, and veterinary procedures. The goal is for your dog to be a willing participant in the process and for your dog to be allowed to “say no” if they experience anxiety or stress. You will be training your dog not just to listen to you\, but you will also be training yourself to listen to your dog. Jesi is a Fear Free certified groomer and trainer who is also a certified behavior consultant. During this workshop you will be introduced to strategies such as bucket game\, chin rest\, scratch boards\, as well as how to advocate for your pet. We will cover how to counter condition and desensitize your dog to it’s dislikes or triggers. Dog’s who sign up for this workshop should be used to participating in group classes and able to settle during lectures and/or waiting for their turn. \n  \nIf your dog is not suitable for working in a group you can also audit the workshop and come by yourself! You can book an audit spot HERE for only $50!
URL:https://alldogsnc.com/event/cooperative-care-workshop-mar/
LOCATION:Training Center – Suite C\, 110 Woodwinds Industrial Ct\, Cary\, NC\, 27511\, United States
END:VEVENT
BEGIN:VEVENT
DTSTART;TZID=America/New_York:20250302T140000
DTEND;TZID=America/New_York:20250302T160000
DTSTAMP:20260423T133938
CREATED:20250207T155857Z
LAST-MODIFIED:20250207T155857Z
UID:38772-1740924000-1740931200@alldogsnc.com
SUMMARY:Foster Photo Class - March
DESCRIPTION:Join Dog Photographer\, Joanne Wetzel\, for an afternoon of learning all about pet photography as it pertains to taking great photos of your foster cats and dogs! We will tackle some of the most common foster issues when it comes to taking photos\, such as lighting\, focus\, getting the animal to pay attention to you / sit still\, cell phone camera settings\, and more. This class is only for current animal fosters at local shelters and rescues and is not open to the public as a photography class. Please only register if you are an active foster with a shelter or rescue and can provide proof as such. To register\, please email joanne@fivefreedomsphotography.com with the subject line ‘Foster Photo Class.’ Proceeds from this class will be donated to Caswell County APS!
URL:https://alldogsnc.com/event/foster-photo-class-march/
LOCATION:Training Center – Suite B\, 110 Woodwinds Industrial Ct\, Cary\, NC\, 27511\, United States
END:VEVENT
BEGIN:VEVENT
DTSTART;TZID=America/New_York:20250216T140000
DTEND;TZID=America/New_York:20250216T150000
DTSTAMP:20260423T133938
CREATED:20240611T143756Z
LAST-MODIFIED:20250206T164211Z
UID:34718-1739714400-1739718000@alldogsnc.com
SUMMARY:Agility Training at the Park February
DESCRIPTION:Join us at Downtown Cary Park for dog agility training led by the experts from All Dogs Allowed! Enhance your pup’s skills and coordination in this action-packed class. From weaving through poles to conquering obstacles\, your furry friend will thrive under our guidance. Don’t miss out on the fun – unleash your dog’s potential today! We also recommend bringing treats to keep your pup motivated!
URL:https://alldogsnc.com/event/agility-training-at-the-park-feb/
LOCATION:Park Street Courts\, 327 S Academy St\, Cary\, NC\, 27511\, United States
END:VEVENT
BEGIN:VEVENT
DTSTART;TZID=America/New_York:20241102T110000
DTEND;TZID=America/New_York:20241102T140000
DTSTAMP:20260423T133938
CREATED:20240611T144428Z
LAST-MODIFIED:20240923T142523Z
UID:34722-1730545200-1730556000@alldogsnc.com
SUMMARY:Tails and Trails
DESCRIPTION:Join us at Crowder County Park for Tails and Trails to show off your paw-some pal or find a new fur-ever friend at this fun-filled event. Dress your dogs in adorable costumes and witness their impressive tricks in our contests. Don’t miss our optional photo stations\, face painting\, games\, and an exciting obstacle course with dog professionals on site. Mingle with adoptable dogs from local dog rescue organizations. Together\, let’s make a difference by giving these deserving animals a chance at a forever home.
URL:https://alldogsnc.com/event/tails-and-trails/
LOCATION:Crowder Park Apex
END:VEVENT
BEGIN:VEVENT
DTSTART;TZID=America/New_York:20241006T090000
DTEND;TZID=America/New_York:20241006T140000
DTSTAMP:20260423T133938
CREATED:20240611T144705Z
LAST-MODIFIED:20240611T144705Z
UID:34725-1728205200-1728223200@alldogsnc.com
SUMMARY:Vets to Vets 5K Fundraiser
DESCRIPTION:Join us on “The Cross-Country Course Track” at the WakeMed Soccer Park\, Cary\, NC to run\, jog\, walk\, or cheer- with or without your dog. This very unique fun event is branded for all types of participants with a specific focus to runners of all ages\, dog owners\, active military and veterans\, and fans of all kind. This unique track allows all participants & canines to experience both the woods and the open field. \n  \nRace check-in & day of event registration is at 9:00 AM. The race opening ceremony starts at 10:00 AM\, followed by the race. The event is located at 940 E. Chatham St.\, Cary\, N.C. Look for the signs to the Cross Country 5K Course Track. \n  \nThis fundraiser will make a difference for our local veterans with service dogs supported by Vets To Vets United\, Inc.\, a local non-profit 501(C)3 organization. We pair and train service dogs with local disabled veterans suffering from PTS\, Traumatic Brain Injury (TBI) or other physical or mental service connected issues. After a 2 yr. training program\, these service dogs significantly improve their life by providing companionship and help them with their mental or physical disability. This also saves the life of a dog facing euthanasia by adopting the animal from a local animal shelter. This annual fund-raiser helps us to fund this challenge. \n  \nThere will be product vendors\, veteran organizations\, a DJ with great encouragement music\, snacks & water\, and fun activities for your dog. Bring your support fans to cheer you on & to have fun as well. An encouraging opening and closing ceremony is planned.
URL:https://alldogsnc.com/event/vets-to-vets-5k-fundraiser/
LOCATION:WakeMed Soccer Park Cross-Country Track
END:VEVENT
END:VCALENDAR